BEGIN:VCALENDAR
PRODID:-//Session events Calendar//IBA//EN
CALSCALE:GREGORIAN
VERSION:2.0
BEGIN:VEVENT
DTSTAMP:20260421T224416Z
DTSTART:20240917T171500Z
DTEND:20240917T183000Z
SUMMARY:Going viral is not just a bad case of influenza: 8 billion views 
 means huge business and unique challenges
DESCRIPTION:This panel will explore the evolution of online viral sensati
 ons and influencers including discussion of their unique legal and busin
 ess challenges faced as entertainers and product/sales professionals.\n\
 nThe panel includes Jordan Matter\, an American YouTuber with over 24 mi
 llion subscribers and over 8 billion views\, and Yazmin Yeara\, a succes
 sful Dominican Republic on-line influencer and cosmetic product develope
 r.\n\nOn-line content providers and influencers are surpassing tradition
 al entertainment and sales industry professionals in revenue production 
 which in turn creates new challenges. The panel will also discuss sophis
 ticated IP strategies now required of such professionals. Knowing this i
 ndustry is critical for legal professionals to serve clients in this exp
 loding area of business.\n
LOCATION:CASA DEL DIEZMO 3\, LEVEL S
UID:1706bf20-bae7-43f7-8506-d2e8df701486
END:VEVENT
END:VCALENDAR
