BEGIN:VCALENDAR
PRODID:-//Session events Calendar//IBA//EN
CALSCALE:GREGORIAN
VERSION:2.0
BEGIN:VEVENT
DTSTAMP:20260421T205938Z
DTSTART:20240917T221500Z
DTEND:20240917T233000Z
SUMMARY:Fireside chat with women law firm leaders
DESCRIPTION:Women law firm leaders from around the globe will discuss the
 ir road to leadership\, successes\, failures and effective ways that law
 yers and law firms can create pathways to management and rainmaking.\n
LOCATION:CASA MONTEJO 2\, LEVEL S
UID:94c24386-013d-47a6-9715-9f9ed263e8b9
END:VEVENT
END:VCALENDAR
