BEGIN:VCALENDAR
PRODID:-//Session events Calendar//IBA//EN
CALSCALE:GREGORIAN
VERSION:2.0
BEGIN:VEVENT
DTSTAMP:20260421T155436Z
DTSTART:20240919T221500Z
DTEND:20240919T233000Z
SUMMARY:From the boardroom to the war crimes courtroom: best practices fo
 r tech companies operating in conflict zones
DESCRIPTION:What does responsible action by a tech company look like in t
 he midst of a war zone? Panelists representing a diverse range of views 
 and experiences will explore the intersection between the laws of war\, 
 international criminal law\, business &amp\; human rights (BHR)\, corpor
 ate accountability\, and responsible tech policy. The session will explo
 re the risks faced by and posed by digital technology companies operatin
 g in conflict zones\, examine best practices in minimizing those risks a
 nd averting unintended impacts for conflict-affected populations\, and o
 ffer insights on how tech companies can engage constructively to support
  atrocity prevention and accountability efforts\, collaborating across s
 ectors to better protect victims and survivors of atrocity crimes.
LOCATION:PALACIO DE CANAL 3\, LEVEL E1
UID:0c43a2d5-d0c5-40a5-a568-f8d6df21216d
END:VEVENT
END:VCALENDAR
