BEGIN:VCALENDAR
PRODID:-//Session events Calendar//IBA//EN
CALSCALE:GREGORIAN
VERSION:2.0
BEGIN:VEVENT
DTSTAMP:20260424T132926Z
DTSTART:20240916T203000Z
DTEND:20240916T214500Z
SUMMARY:Availability and affordability of justice in ensuring equality be
 fore the law – regional focus on Latin America
DESCRIPTION:To uphold the rule of law\, justice must be available to all.
  In countries with no affordable access to justice\, many sections of so
 ciety are denied any real form of justice\, which particularly impacts w
 omen\, children and the poor. What can society do to ensure justice is a
 vailable to all and what is the role of lawyers in this issue?
LOCATION:PALACIO DE CANAL 7\, LEVEL E1
UID:a6a43cb6-73bf-494d-938c-8344329c54db
END:VEVENT
END:VCALENDAR
