BEGIN:VCALENDAR
PRODID:-//Session events Calendar//IBA//EN
CALSCALE:GREGORIAN
VERSION:2.0
BEGIN:VEVENT
DTSTAMP:20260421T205603Z
DTSTART:20240920T153000Z
DTEND:20240920T173000Z
SUMMARY:Defending and restoring the global rule of law
DESCRIPTION:Continuing the IBA Rule of Law Forums theme of ‘law not war’ 
 we consider how legal systems can be protected and re-established during
  times of conflict. This will include transitional justice for recently 
 occupied territories.
LOCATION:PALACIO DE INTURBIDE 1\, LEVEL E1
UID:13b5dac2-6ee5-4ef2-9f02-619e5850237c
END:VEVENT
END:VCALENDAR
