BEGIN:VCALENDAR
PRODID:-//Session events Calendar//IBA//EN
CALSCALE:GREGORIAN
VERSION:2.0
BEGIN:VEVENT
DTSTAMP:20260422T110812Z
DTSTART:20240918T203000Z
DTEND:20240918T214500Z
SUMMARY:Law firms\, legal organisations - to speak or not to speak that i
 s the question. (How) should law firms\, legal organisations react to po
 litically volatile situations
DESCRIPTION:In this session\, we will focus on:\n\n• Law firms’ decision 
 and the behind the scenes decision-making process about whether to speak
  out or stay silent in such situations and why\;\n• Dentons’ (and maybe 
 also other firms’) reaction wherein they have originally made a post on 
 LinkedIn about the terror attacks and when an associate from the firm ha
 s criticised it\, they have removed it\;\n• big law firms’ open letter a
 sking law school deans to respond to antisemitism in campus protests\; a
 nd\n• rescission of contracts/revocation of offers by Winston &amp\; Str
 awn\, Davis Polk\, etc\, for inflammatory comments in regards to the ter
 ror attacks and the current situation is Israel.\n\n
LOCATION:PALACIO DE CANAL 4\, LEVEL E1
UID:7e8215b0-bb52-4287-b3f8-93274f5765f2
END:VEVENT
END:VCALENDAR
