BEGIN:VCALENDAR
PRODID:-//Session events Calendar//IBA//EN
CALSCALE:GREGORIAN
VERSION:2.0
BEGIN:VEVENT
DTSTAMP:20260422T051901Z
DTSTART:20240917T221500Z
DTEND:20240917T233000Z
SUMMARY:Measuring the impact of pro bono – beyond the numbers game
DESCRIPTION:Every year\, millions of hours of legal and professional serv
 ices are donated to serve indigent clients. Measuring the impact of thes
 e hours may result in better data around client impact trends\, provide 
 better value to pro bono stakeholders by assisting law firms in better u
 nderstanding and tailoring the resourcing of their programmes – and it m
 ay add value to the broader access to justice ecosystem.
LOCATION:PALACIO DE CANAL 7\, LEVEL E1
UID:aef42d54-954d-45bf-b038-510c8a8eefe4
END:VEVENT
END:VCALENDAR
