BEGIN:VCALENDAR
PRODID:-//Session events Calendar//IBA//EN
CALSCALE:GREGORIAN
VERSION:2.0
BEGIN:VEVENT
DTSTAMP:20260421T092221Z
DTSTART:20240918T171500Z
DTEND:20240918T183000Z
SUMMARY:Offices or networks? making networking work
DESCRIPTION:Many law firms continue opening offices. Many law firms are m
 embers of formal networks and alliances. Many law firms – with varying d
 egrees of organisation – claim to have their own ‘personal’ networks or 
 alliances (including ‘best friends’).\n\nWhat is the right answer and ho
 w do you work out what is the right answer for your law firm? Deciding u
 pon office locations\, networks and/or alliances is hard\, but it is muc
 h harder making them work\, both within your law firm but also within a 
 network or alliance.\n\n
LOCATION:CASA DEL DIEZMO 4\, LEVEL S
UID:802c0f37-035a-42ac-8792-38136aa18733
END:VEVENT
END:VCALENDAR
