BEGIN:VCALENDAR
PRODID:-//Session events Calendar//IBA//EN
CALSCALE:GREGORIAN
VERSION:2.0
BEGIN:VEVENT
DTSTAMP:20260421T190947Z
DTSTART:20240918T140000Z
DTEND:20240918T153000Z
SUMMARY:Managing partners’ breakfast
DESCRIPTION:Over recent years\, law firm leaders have had to deal with se
 veral black swan events: a global pandemic\, war in Europe and the Middl
 e East\, trade wars amongst world powers and a global economic recession
  with high inflation and interest rates. Leading law firms are\, however
 \, still doing well – do lawyers handle these events better than other b
 usinesses or are we simply active in a privileged industry? What have we
  learned? Where do we think we are headed?
LOCATION:GALERI RESTAURANT\, LEVEL E1
UID:258d5afc-cf9e-4205-bb91-c8960c581df5
END:VEVENT
END:VCALENDAR
