BEGIN:VCALENDAR
PRODID:-//Session events Calendar//IBA//EN
CALSCALE:GREGORIAN
VERSION:2.0
BEGIN:VEVENT
DTSTAMP:20260421T190947Z
DTSTART:20240917T203000Z
DTEND:20240917T214500Z
SUMMARY:Immigration detention: challenges\, policy and the future
DESCRIPTION:Over the course of the two decades of this century\, we have 
 seen the rise of the corporate player in immigration detention centres a
 cross various jurisdictions. This session will explore the challenges an
 d governance of immigration detention centres\, concepts of arbitrary de
 tention and its violations arising worldwide\, rights of detainees and p
 otential solutions.
LOCATION:PALACIO DE CANAL 6\, LEVEL E1
UID:23f842b9-9125-4cb8-af13-67fe0730b0fa
END:VEVENT
END:VCALENDAR
