BEGIN:VCALENDAR
PRODID:-//Session events Calendar//IBA//EN
CALSCALE:GREGORIAN
VERSION:2.0
BEGIN:VEVENT
DTSTAMP:20260421T205538Z
DTSTART:20240917T221500Z
DTEND:20240917T233000Z
SUMMARY:Pillars of democracy programme
DESCRIPTION:One of the core pillars of democracy and the rule of law is t
 he separation of powers. Around the world\, one branch – the judiciary –
  is under increased pressure. While the independence of the judiciary ha
 s been a long-understood concept\, perhaps less attention has been paid 
 to the independence of the legislature. As executive branches around the
  world increasingly need to act quickly\, and look to justify actions un
 der law\, the tension between who makes the law\, who has what mandate t
 o act and who provides the check on legality becomes more urgent. This p
 anel discusses this issue in the context of the role of lawyers and bar 
 associations.
LOCATION:PALACIO DE CANAL 9\, LEVEL E1
UID:41ed40d7-14db-4f88-a533-839baec02154
END:VEVENT
END:VCALENDAR
