BEGIN:VCALENDAR
PRODID:-//Session events Calendar//IBA//EN
CALSCALE:GREGORIAN
VERSION:2.0
BEGIN:VEVENT
DTSTAMP:20260421T155252Z
DTSTART:20240919T221500Z
DTEND:20240919T233000Z
SUMMARY:Aguas! myths and reality of ESG: business opportunities for the l
 egal profession and alternative business structures
DESCRIPTION:For some time\, ESG has been gaining attention from large law
  firms\, auditors and their clients. ESG issues are also gaining tractio
 n in other circles in the legal profession\, notably alternative busines
 s structures. ESG frameworks evaluate business practices and performance
  but also measure risks and opportunities. The panel will assess each pi
 llar of ESG (environmental\, social\, governance)\, exploring the practi
 ces and steps law firms and alternative business structures can adopt an
 d implement to uphold the 2030 UN Sustainability and Development Goals.
LOCATION:CASA DEL DIEZMO 1 & 2\, LEVEL S
UID:2aa4c8c8-d952-45db-bde5-9ed6d003dd15
END:VEVENT
END:VCALENDAR
