BEGIN:VCALENDAR
PRODID:-//Session events Calendar//IBA//EN
CALSCALE:GREGORIAN
VERSION:2.0
BEGIN:VEVENT
DTSTAMP:20260421T154530Z
DTSTART:20240919T221500Z
DTEND:20240919T233000Z
SUMMARY:Impact of AI on M&A transactions
DESCRIPTION:This session will address how artificial intelligence (AI) ha
 s impacted mergers and acquisitions (M&amp\;A) transactions in terms of 
 legal tech tools used\, topics for due diligence\, additional covenants/
 reps &amp\; warranties\, warranty and indemnity (W&amp\;I) insurances\, 
 etc.
LOCATION:CASA MONTEJO 4\, LEVEL S
UID:15656538-e231-42e2-b3be-7ee24c9287c8
END:VEVENT
END:VCALENDAR
