BEGIN:VCALENDAR
PRODID:-//Session events Calendar//IBA//EN
CALSCALE:GREGORIAN
VERSION:2.0
BEGIN:VEVENT
DTSTAMP:20260421T154546Z
DTSTART:20240919T203000Z
DTEND:20240919T214500Z
SUMMARY:Tax-AI-tion and the digital divide
DESCRIPTION:How does artificial intelligence (AI) impact on tax practice.
  Join the IBA Taxes Committee for an in-depth discussion on all things t
 ax and AI.
LOCATION:CASA MONTEJO 3\, LEVEL S
UID:e39f69a1-9c20-4d2d-ba88-089efa6ddb0f
END:VEVENT
END:VCALENDAR
