BEGIN:VCALENDAR
PRODID:-//Session events Calendar//IBA//EN
CALSCALE:GREGORIAN
VERSION:2.0
BEGIN:VEVENT
DTSTAMP:20260421T155325Z
DTSTART:20240919T221500Z
DTEND:20240919T233000Z
SUMMARY:Regional topic: structuring business investment into Mexico
DESCRIPTION:Navigating Mexican taxation and employment-ownership regimes 
 for multinational enterprises (MNEs) contemplating business expansion in
 to Mexico.
LOCATION:CASA MONTEJO 1\, LEVEL S
UID:964407c1-4c0f-4a26-9d9d-d9f2653748da
END:VEVENT
END:VCALENDAR
