BEGIN:VCALENDAR
PRODID:-//Session events Calendar//IBA//EN
CALSCALE:GREGORIAN
VERSION:2.0
BEGIN:VEVENT
DTSTAMP:20260421T211323Z
DTSTART:20240916T221500Z
DTEND:20240916T233000Z
SUMMARY:Does the future of mining lie in outer space?
DESCRIPTION:The idea of space mining is not new. However\, until recently
 \, technological and financial constraints have prevented it from becomi
 ng a reality. This might be about to change. With the continuing decreas
 e of launching costs and national and international efforts to private l
 egal certainty for mining operations in space\, space mining might soon 
 attract the necessary investments to take off. Indeed\, the first contra
 cts have already been signed for the extraction and sale of lunar resour
 ces. The panel will address the advantages and challenges of mining in s
 pace\, as well as the applicable legal framework.\n
LOCATION:PALACIO DE CANAL 3\, LEVEL E1
UID:b7337c2a-1126-4647-9872-5a3c8f8b1f60
END:VEVENT
END:VCALENDAR
