BEGIN:VCALENDAR
PRODID:-//Session events Calendar//IBA//EN
CALSCALE:GREGORIAN
VERSION:2.0
BEGIN:VEVENT
DTSTAMP:20260422T110308Z
DTSTART:20240916T171500Z
DTEND:20240916T183000Z
SUMMARY:The impact of generative AI on news content\, disinformation\, an
 d the media industry
DESCRIPTION:The rapid diffusion of generative artificial intelligence (GA
 I) in all environments has had a dramatic impact in the production of co
 ntent and works\, on the media and entertainment industry\, and on the i
 nformation sector. This session will assess the current and foreseeable 
 impact of GAI\, analyse legislative and regulatory efforts to govern the
  use of foundation models and examine relevant litigation against GAI pl
 atforms.
LOCATION:CASA DEL DIEZMO 4\, LEVEL S
UID:cc221f20-7a69-455f-b9cc-fee2b9d4fce4
END:VEVENT
END:VCALENDAR
