BEGIN:VCALENDAR
PRODID:-//Session events Calendar//IBA//EN
CALSCALE:GREGORIAN
VERSION:2.0
BEGIN:VEVENT
DTSTAMP:20260421T092738Z
DTSTART:20240919T153000Z
DTEND:20240919T164500Z
SUMMARY:Damages and multi modal transports: how to handle proof of damage
 \, breaking of limitation and force majeure
DESCRIPTION:This session will address the evidence related to the conditi
 on of cargo in container transportation\, and the difficulties in demons
 trating the condition of the cargo at the commencement of transportation
  when goods are shipped in containers.\n
LOCATION:PALACIO DE CANAL 8\, LEVEL E1
UID:400a635b-7c7f-44c2-a780-6e07163698c4
END:VEVENT
END:VCALENDAR
