BEGIN:VCALENDAR
PRODID:-//Session events Calendar//IBA//EN
CALSCALE:GREGORIAN
VERSION:2.0
BEGIN:VEVENT
DTSTAMP:20260421T155408Z
DTSTART:20240919T221500Z
DTEND:20240919T233000Z
SUMMARY:Pollution liability for vessels and rigs – insights from the Amer
 icas
DESCRIPTION:The pollution liability and applicable limitation schemes wil
 l explore similarities and differences between various liability and lim
 itation regimes\, with a focus on the applicable schemes in the Americas
 .
LOCATION:CASA MONTEJO 3\, LEVEL S
UID:b1bc4434-ddd2-4506-941b-8413f576774f
END:VEVENT
END:VCALENDAR
