BEGIN:VCALENDAR
PRODID:-//Session events Calendar//IBA//EN
CALSCALE:GREGORIAN
VERSION:2.0
BEGIN:VEVENT
DTSTAMP:20260423T114022Z
DTSTART:20240916T221500Z
DTEND:20240916T233000Z
SUMMARY:Hot topics in Mexican insurance law and other LatAm jurisdictions
 
DESCRIPTION:This session will provide an overview of some of the key lega
 l and regulatory issues in Mexico and Latin America\, including insurtec
 h and regulatory sandboxes\, open insurance\, parametric insurance\, tax
 ation\, health insurance in the aftermath of Covid-19\, alternative dist
 ribution channels and the role of managing general agents (MGAs). Lawyer
 s in private practice and industry players will provide insight on these
  topics with a regional perspective.
LOCATION:PALACIO DE CANAL 11\, LEVEL E1
UID:445e34c6-5292-4b7a-8e3d-f3daef3c4774
END:VEVENT
END:VCALENDAR
