BEGIN:VCALENDAR
PRODID:-//Session events Calendar//IBA//EN
CALSCALE:GREGORIAN
VERSION:2.0
BEGIN:VEVENT
DTSTAMP:20260423T130933Z
DTSTART:20240919T171500Z
DTEND:20240919T183000Z
SUMMARY:Across the valleys: tech deals in California and around the globe
 
DESCRIPTION:While Silicon Valley is a perennial trend setter for technolo
 gy mergers and acquisitions (tech M&amp\;A) transactions\, other places 
 and segments are catching up. This panel will discuss recent global and 
 regional trends and developments in tech M&amp\;A\, including valuation\
 , going public\, staying private\, liability issues and warranty and ind
 emnity (W&amp\;I)\, increasing regulatory challenges and\, last but not 
 least\, artificial intelligence (AI) topics from various perspectives.
LOCATION:PALACIO DE VALPARAISO 1\, LEVEL E1
UID:d9a4c487-8cbf-4b10-8623-47d0c5745653
END:VEVENT
END:VCALENDAR
