BEGIN:VCALENDAR
PRODID:-//Session events Calendar//IBA//EN
CALSCALE:GREGORIAN
VERSION:2.0
BEGIN:VEVENT
DTSTAMP:20260421T205538Z
DTSTART:20240917T203000Z
DTEND:20240917T214500Z
SUMMARY:Deglobalisation and its impact on the communication sector (FDI r
 egimes\, IMEC v. BRI\, security restrictions\, etc.)
DESCRIPTION:Increasingly more protectionist policies are adopted across t
 he globe which affects business ability to make deals (new FDI and FSR r
 egimes\, etc.) and to access markets (IMEC v. BRI\, security restriction
 s for hardwares sales\, etc.). This session will look at how this trend 
 towards deglobalisation is affecting the communications sector.
LOCATION:CASA DEL DIEZMO 1 & 2\, LEVEL S
UID:7b8fe357-13b0-485b-b817-14f423c08726
END:VEVENT
END:VCALENDAR
