BEGIN:VCALENDAR
PRODID:-//Session events Calendar//IBA//EN
CALSCALE:GREGORIAN
VERSION:2.0
BEGIN:VEVENT
DTSTAMP:20260420T120736Z
DTSTART:20240228T114500Z
DTEND:20240228T123000Z
SUMMARY:Opportunities for law firms\, and lawyers\, in the Middle East an
 d the 'rush' to Saudi Arabia
DESCRIPTION:There is significant activity in the Middle East\, especially
  given the apparent opening up of the legal market in Saudi Arabia. How 
 do law firm leaders make the right decisions about growth in the Middle 
 East? Where do they open or grow offices? Should they flock to Saudi Ara
 bia? What are the other opportunities that may be “overshadowed” by the 
 focus on Saudi Arabia?\n
LOCATION:
UID:2149fb0f-e7f1-4999-ac4d-635e5a0b5fd8
END:VEVENT
END:VCALENDAR
