BEGIN:VCALENDAR
PRODID:-//Session events Calendar//IBA//EN
CALSCALE:GREGORIAN
VERSION:2.0
BEGIN:VEVENT
DTSTAMP:20260424T120007Z
DTSTART:20240916T221500Z
DTEND:20240916T233000Z
SUMMARY:Hot topics in international arbitration
DESCRIPTION:This flagship session organised by the IBA Arbitration Commit
 tee at each IBA Annual Conference focuses on the most recent and controv
 ersial themes in international arbitration. From the proliferation of an
 ti- and anti-anti- arbitration injunctions\, or requests for securities\
 , to managing circumstances disrupting the proceedings\, and facing new 
 challenges based on public policy\, as well as other issues participants
  have come across in their recent practice\, join us for a robust discus
 sion of the current hop topics in international arbitration.
LOCATION:PALACIO DE VALPARAISO 1\, LEVEL E1
UID:f5982863-eff6-4620-bf13-9dd76b16ba63
END:VEVENT
END:VCALENDAR
