BEGIN:VCALENDAR
PRODID:-//Session events Calendar//IBA//EN
CALSCALE:GREGORIAN
VERSION:2.0
BEGIN:VEVENT
DTSTAMP:20260423T113905Z
DTSTART:20240917T171500Z
DTEND:20240917T183000Z
SUMMARY:Foreign ownership of farmland
DESCRIPTION:We intend to explore the impacts of the foreign ownership of 
 farmland from an economic\, social and environmental perspective.\n\nWe 
 will address the cross-border challenges faced in regulating and monitor
 ing these transactions\, and the benefits and risks associated with fore
 ign investment in farmland.\n
LOCATION:PALACIO DE CANAL 1\, LEVEL E1
UID:ba17d0c7-98e0-4061-9906-80fce6929d84
END:VEVENT
END:VCALENDAR
