BEGIN:VCALENDAR
PRODID:-//Session events Calendar//IBA//EN
CALSCALE:GREGORIAN
VERSION:2.0
BEGIN:VEVENT
DTSTAMP:20260419T190921Z
DTSTART:20240305T153000Z
DTEND:20240305T164500Z
SUMMARY:Make it rain – advising Zennials
DESCRIPTION:If we thought that advising our current clients is sometimes 
 challenging\, just wait until you deal with their children\, or with the
  new generation entrepreneurs. This session will provide inputs and shar
 e experiences about dealing with the younger generation of wealth holder
 s. We will see if it the type of wealth that is going to change\, the ch
 aracteristics of the clients\, their financial needs\, the advice they s
 eek\, or all of the above. Speakers across different ages and background
 s will share their views\, stories and insights\, will try to help us to
  prepare for the next years in business\, and will show us that even wit
 h AI\, there are quite a few needs we can and must accommodate.
LOCATION:
UID:08256c5d-d15f-40b2-a949-7aa02d7f1677
END:VEVENT
END:VCALENDAR
