BEGIN:VCALENDAR
PRODID:-//Session events Calendar//IBA//EN
CALSCALE:GREGORIAN
VERSION:2.0
BEGIN:VEVENT
DTSTAMP:20260424T140256Z
DTSTART:20240305T110000Z
DTEND:20240305T121500Z
SUMMARY:Is it possible to bulletproof your trust/foundation structure?
DESCRIPTION:The panel of international planners and litigators will discu
 ss how to attack or defend trust and foundation structures in the face o
 f ongoing challenges. The panelists will explore and help to navigate th
 e nuances of civil and common law as it relates to cross border disputes
 .
LOCATION:
UID:122a16c3-7a00-4db3-a321-4eb9ab9d2f14
END:VEVENT
END:VCALENDAR
