BEGIN:VCALENDAR
PRODID:-//Session events Calendar//IBA//EN
CALSCALE:GREGORIAN
VERSION:2.0
BEGIN:VEVENT
DTSTAMP:20260424T140256Z
DTSTART:20240305T103000Z
DTEND:20240305T110000Z
SUMMARY:Coffee/tea break
DESCRIPTION:
LOCATION:
UID:472ba14a-852e-4525-a73c-f630b591dc0a
END:VEVENT
END:VCALENDAR
