BEGIN:VCALENDAR
PRODID:-//Session events Calendar//IBA//EN
CALSCALE:GREGORIAN
VERSION:2.0
BEGIN:VEVENT
DTSTAMP:20260424T140338Z
DTSTART:20240305T091500Z
DTEND:20240305T103000Z
SUMMARY:Will they rest in peace: navigating the complex world of estate t
 ax treaties
DESCRIPTION:A stimulating discussion among expert private client attorney
 s about the effective use of estate tax treaties to mitigate the client’
 s potential exposure to estate/inheritance tax across jurisdictions.
LOCATION:
UID:d53eb6e0-cf94-4e52-84ad-902577fae2c6
END:VEVENT
END:VCALENDAR
