BEGIN:VCALENDAR
PRODID:-//Session events Calendar//IBA//EN
CALSCALE:GREGORIAN
VERSION:2.0
BEGIN:VEVENT
DTSTAMP:20260424T140338Z
DTSTART:20240305T090000Z
DTEND:20240305T091500Z
SUMMARY:Welcome from the Conference Co-Chairs
DESCRIPTION:
LOCATION:
UID:be6025ba-ed31-45e3-b45d-cca5fc86dad1
END:VEVENT
END:VCALENDAR
