BEGIN:VCALENDAR
PRODID:-//Session events Calendar//IBA//EN
CALSCALE:GREGORIAN
VERSION:2.0
BEGIN:VEVENT
DTSTAMP:20260424T140256Z
DTSTART:20240304T124500Z
DTEND:20240304T140000Z
SUMMARY:Lunch
DESCRIPTION:
LOCATION:
UID:c20e7e91-4dbb-419b-b245-a11fba0c86ab
END:VEVENT
END:VCALENDAR
