BEGIN:VCALENDAR
PRODID:-//Session events Calendar//IBA//EN
CALSCALE:GREGORIAN
VERSION:2.0
BEGIN:VEVENT
DTSTAMP:20260424T140338Z
DTSTART:20240304T090000Z
DTEND:20240304T101500Z
SUMMARY:AI: is it game over for humans?
DESCRIPTION:There is hardly a private client advisor who has not heard of
  ChatGPT and similar large language models. While these are just fancy s
 tatistical next-word predictors\, the texts generated by them are of an 
 astounding human-like quality. In this session you will learn who the ma
 in players are in this field\, what tools you as an advisor should be lo
 oking into\, what their limitations are\, and how these models will like
 ly develop in the next few years. Brace yourself for the future\, by att
 ending the session – which will be both exciting and frightening!
LOCATION:
UID:ceed23a2-2299-437a-b5a0-199a646afe67
END:VEVENT
END:VCALENDAR
