BEGIN:VCALENDAR
PRODID:-//Session events Calendar//IBA//EN
CALSCALE:GREGORIAN
VERSION:2.0
BEGIN:VEVENT
DTSTAMP:20260420T085445Z
DTSTART:20231101T123000Z
DTEND:20231101T133000Z
SUMMARY:Class Actions Committee Open Business Meeting
DESCRIPTION:
LOCATION:Room 342B\, Level 3
UID:5ab6156f-7a17-446d-b95d-a47c70f1bf3f
END:VEVENT
END:VCALENDAR
