BEGIN:VCALENDAR
PRODID:-//Session events Calendar//IBA//EN
CALSCALE:GREGORIAN
VERSION:2.0
BEGIN:VEVENT
DTSTAMP:20260420T103403Z
DTSTART:20231101T151500Z
DTEND:20231101T164500Z
SUMMARY:Corporate Counsel Forum Open Business Meeting
DESCRIPTION:
LOCATION:Room 314
UID:08e59489-578b-4922-8244-0a7192680039
END:VEVENT
END:VCALENDAR
