BEGIN:VCALENDAR
PRODID:-//Session events Calendar//IBA//EN
CALSCALE:GREGORIAN
VERSION:2.0
BEGIN:VEVENT
DTSTAMP:20260420T085335Z
DTSTART:20231030T113000Z
DTEND:20231030T123000Z
SUMMARY:Aviation Law Committee open business meeting
DESCRIPTION:
LOCATION:Rooms 362-363\, Level 3
UID:3da3b6cf-43f9-4063-8a60-3795f1d8f054
END:VEVENT
END:VCALENDAR
