BEGIN:VCALENDAR
PRODID:-//Session events Calendar//IBA//EN
CALSCALE:GREGORIAN
VERSION:2.0
BEGIN:VEVENT
DTSTAMP:20260420T090801Z
DTSTART:20231101T113000Z
DTEND:20231101T123000Z
SUMMARY:Academic and professional development committee open business mee
 ting
DESCRIPTION:
LOCATION:Room 242 B\, Level 2
UID:7c813595-3d04-4799-9396-bf94ebb6f884
END:VEVENT
END:VCALENDAR
