BEGIN:VCALENDAR
PRODID:-//Session events Calendar//IBA//EN
CALSCALE:GREGORIAN
VERSION:2.0
BEGIN:VEVENT
DTSTAMP:20260423T060032Z
DTSTART:20231026T085000Z
DTEND:20231026T091000Z
SUMMARY:A- Attracting talent + Adaptability. What to do to attract talent
  to the legal profession and what a young lawyer should do to adapt to n
 ew legal scenarios
DESCRIPTION:
LOCATION:
UID:35f24fd2-b480-4a2c-9f2f-162c4acaf137
END:VEVENT
END:VCALENDAR
