BEGIN:VCALENDAR
PRODID:-//Session events Calendar//IBA//EN
CALSCALE:GREGORIAN
VERSION:2.0
BEGIN:VEVENT
DTSTAMP:20260420T090807Z
DTSTART:20231031T133000Z
DTEND:20231031T144500Z
SUMMARY:Latin American Regional Forum open business meeting
DESCRIPTION:
LOCATION:Room 252 A&B\, Level 2 
UID:ca93cb04-d79e-4033-a595-e81bad8d7623
END:VEVENT
END:VCALENDAR
