BEGIN:VCALENDAR
PRODID:-//Session events Calendar//IBA//EN
CALSCALE:GREGORIAN
VERSION:2.0
BEGIN:VEVENT
DTSTAMP:20260420T090809Z
DTSTART:20231101T113000Z
DTEND:20231101T123000Z
SUMMARY:Immigration and Nationality Law open business meeting
DESCRIPTION:
LOCATION:Rooms 212-213\, Level 2
UID:ed011f6c-d7d8-4dd7-b874-5662ebf48495
END:VEVENT
END:VCALENDAR
