BEGIN:VCALENDAR
PRODID:-//Session events Calendar//IBA//EN
CALSCALE:GREGORIAN
VERSION:2.0
BEGIN:VEVENT
DTSTAMP:20260421T100926Z
DTSTART:20230929T071500Z
DTEND:20230929T080000Z
SUMMARY:Networking breakfast
DESCRIPTION:
LOCATION:
UID:90aef7ea-6367-432b-962c-c601810e0ca3
END:VEVENT
END:VCALENDAR
