BEGIN:VCALENDAR
PRODID:-//Session events Calendar//IBA//EN
CALSCALE:GREGORIAN
VERSION:2.0
BEGIN:VEVENT
DTSTAMP:20260421T100926Z
DTSTART:20230929T121500Z
DTEND:20230929T133000Z
SUMMARY:Networking lunch
DESCRIPTION:
LOCATION:
UID:8b75d0ee-6f4a-47a7-b49d-62a1a7d8ba68
END:VEVENT
END:VCALENDAR
