BEGIN:VCALENDAR
PRODID:-//Session events Calendar//IBA//EN
CALSCALE:GREGORIAN
VERSION:2.0
BEGIN:VEVENT
DTSTAMP:20260421T100905Z
DTSTART:20230929T121000Z
DTEND:20230929T121500Z
SUMMARY:Closing remarks
DESCRIPTION:
LOCATION:
UID:5a1a9c3f-b84d-42c8-b567-5719f311b131
END:VEVENT
END:VCALENDAR
