BEGIN:VCALENDAR
PRODID:-//Session events Calendar//IBA//EN
CALSCALE:GREGORIAN
VERSION:2.0
BEGIN:VEVENT
DTSTAMP:20260421T100925Z
DTSTART:20230929T103000Z
DTEND:20230929T112000Z
SUMMARY:Emerging market features across jurisdictions 
DESCRIPTION:A panel of leading US\, UK and European private equity partne
 rs offer insights into current market trends and what to expect from the
  next cycle of PE M&amp\;A activity
LOCATION:
UID:db01cb1c-d3cb-4adf-b110-d77aad065666
END:VEVENT
END:VCALENDAR
