BEGIN:VCALENDAR
PRODID:-//Session events Calendar//IBA//EN
CALSCALE:GREGORIAN
VERSION:2.0
BEGIN:VEVENT
DTSTAMP:20260421T100925Z
DTSTART:20230929T112000Z
DTEND:20230929T121000Z
SUMMARY:Investing in sport: How to avoid scoring an own goal
DESCRIPTION:Panel of legal and financial advisers discuss the anatomy of 
 an M&amp\;A deal in the sport sector\, including what the value drivers 
 are\, what the key diligence items are and these differ from other M&amp
 \;A transactions
LOCATION:
UID:7a630323-d348-49e2-9606-cf4a3832c8ca
END:VEVENT
END:VCALENDAR
