BEGIN:VCALENDAR
PRODID:-//Session events Calendar//IBA//EN
CALSCALE:GREGORIAN
VERSION:2.0
BEGIN:VEVENT
DTSTAMP:20260421T100926Z
DTSTART:20230929T102500Z
DTEND:20230929T103000Z
SUMMARY:Intro to the IBA Young Lawyers’ Committee
DESCRIPTION:
LOCATION:
UID:65228135-237c-494e-bed0-c857c9a3ad28
END:VEVENT
END:VCALENDAR
