BEGIN:VCALENDAR
PRODID:-//Session events Calendar//IBA//EN
CALSCALE:GREGORIAN
VERSION:2.0
BEGIN:VEVENT
DTSTAMP:20260421T100947Z
DTSTART:20230929T100500Z
DTEND:20230929T102500Z
SUMMARY:Networking coffee break
DESCRIPTION:
LOCATION:
UID:a644727c-1fcb-4204-8985-4f5dc7fc61a7
END:VEVENT
END:VCALENDAR
