BEGIN:VCALENDAR
PRODID:-//Session events Calendar//IBA//EN
CALSCALE:GREGORIAN
VERSION:2.0
BEGIN:VEVENT
DTSTAMP:20260421T100926Z
DTSTART:20230929T091500Z
DTEND:20230929T100500Z
SUMMARY:Increased regulator activism across the globe
DESCRIPTION:The Director of Mergers at the UK competition agency (CMA) an
 d leading US\, UK and European antitrust partners will discuss current r
 isks in the regulatory space and how to navigate these
LOCATION:
UID:3c93ae25-87ee-44ef-ae75-edf4acccfb4d
END:VEVENT
END:VCALENDAR
