BEGIN:VCALENDAR
PRODID:-//Session events Calendar//IBA//EN
CALSCALE:GREGORIAN
VERSION:2.0
BEGIN:VEVENT
DTSTAMP:20260421T100926Z
DTSTART:20230929T081000Z
DTEND:20230929T091500Z
SUMMARY:GC Panel
DESCRIPTION:Clients’ perspective on the role junior lawyers play in a tra
 nsaction and a relationship: what value the junior lawyers add\, what im
 presses clients\, what looks like a healthy relationship.
LOCATION:
UID:fe048e50-e3f9-465d-b733-df552b7955f2
END:VEVENT
END:VCALENDAR
