BEGIN:VCALENDAR
PRODID:-//Session events Calendar//IBA//EN
CALSCALE:GREGORIAN
VERSION:2.0
BEGIN:VEVENT
DTSTAMP:20260421T101643Z
DTSTART:20230929T080000Z
DTEND:20230929T081000Z
SUMMARY:Welcome remarks
DESCRIPTION:
LOCATION:
UID:bd0fed72-c6f2-4282-ab97-01227c6ca45f
END:VEVENT
END:VCALENDAR
