BEGIN:VCALENDAR
PRODID:-//Session events Calendar//IBA//EN
CALSCALE:GREGORIAN
VERSION:2.0
BEGIN:VEVENT
DTSTAMP:20260420T130806Z
DTSTART:20231031T163000Z
DTEND:20231031T173000Z
SUMMARY:Pro Bono Committee open business meeting
DESCRIPTION:Pro Bono Committe: Open Committee Business Meeting to engage 
 with current members and potential new members about the work of the Pro
  Bono Committee and the role of officers
LOCATION:Room 352 A&B\, Level 3
UID:1c4ebf37-80b1-409b-ae25-faeb28612ea9
END:VEVENT
END:VCALENDAR
